BEGIN:VCALENDAR
VERSION:2.0
PRODID:-//Fahrschule Schomaker-Behrens - ECPv6.2.0.1//NONSGML v1.0//EN
CALSCALE:GREGORIAN
METHOD:PUBLISH
X-WR-CALNAME:Fahrschule Schomaker-Behrens
X-ORIGINAL-URL:https://fahrschule-schomaker.de
X-WR-CALDESC:Veranstaltungen für Fahrschule Schomaker-Behrens
REFRESH-INTERVAL;VALUE=DURATION:PT1H
X-Robots-Tag:noindex
X-PUBLISHED-TTL:PT1H
BEGIN:VTIMEZONE
TZID:Europe/Berlin
BEGIN:DAYLIGHT
TZOFFSETFROM:+0100
TZOFFSETTO:+0200
TZNAME:CEST
DTSTART:20250330T010000
END:DAYLIGHT
BEGIN:STANDARD
TZOFFSETFROM:+0200
TZOFFSETTO:+0100
TZNAME:CET
DTSTART:20251026T010000
END:STANDARD
END:VTIMEZONE
BEGIN:VEVENT
DTSTART;TZID=Europe/Berlin:20250408T083000
DTEND;TZID=Europe/Berlin:20250408T114500
DTSTAMP:20260421T173111
CREATED:20250219T092934Z
LAST-MODIFIED:20250219T092934Z
UID:1345-1744101000-1744112700@fahrschule-schomaker.de
SUMMARY:Theorie Kurs (Thema 3+4)
DESCRIPTION:08.30 Uhr – 10.00 Uhr = Thema 3 (Verkehrszeichen) \n10.15 Uhr – 11.45 Uhr = Thema 4 (Straßenverkehrssystem und seine Nutzung) \nGerne telefonisch oder per Whats App anmelden! Tel. 04961-916180 \n 
URL:https://fahrschule-schomaker.de/event/theorie-kurs-thema-34-2/
LOCATION:Aschendorf Funke\, Zu den Wallwiesen 4\, Aschendorf\, 26871
ATTACH;FMTTYPE=image/jpeg:https://fahrschule-schomaker.de/wp-content/uploads/2022/12/Gebaeude-Untenende.jpeg
END:VEVENT
END:VCALENDAR