BEGIN:VCALENDAR
VERSION:2.0
PRODID:-//Fahrschule Schomaker-Behrens - ECPv6.2.0.1//NONSGML v1.0//EN
CALSCALE:GREGORIAN
METHOD:PUBLISH
X-WR-CALNAME:Fahrschule Schomaker-Behrens
X-ORIGINAL-URL:https://fahrschule-schomaker.de
X-WR-CALDESC:Veranstaltungen für Fahrschule Schomaker-Behrens
REFRESH-INTERVAL;VALUE=DURATION:PT1H
X-Robots-Tag:noindex
X-PUBLISHED-TTL:PT1H
BEGIN:VTIMEZONE
TZID:Europe/Berlin
BEGIN:DAYLIGHT
TZOFFSETFROM:+0100
TZOFFSETTO:+0200
TZNAME:CEST
DTSTART:20260329T010000
END:DAYLIGHT
BEGIN:STANDARD
TZOFFSETFROM:+0200
TZOFFSETTO:+0100
TZNAME:CET
DTSTART:20261025T010000
END:STANDARD
END:VTIMEZONE
BEGIN:VEVENT
DTSTART;TZID=Europe/Berlin:20260422T180000
DTEND;TZID=Europe/Berlin:20260422T211500
DTSTAMP:20260422T013913
CREATED:20260120T113228Z
LAST-MODIFIED:20260120T113228Z
UID:1593-1776880800-1776892500@fahrschule-schomaker.de
SUMMARY:Theorie Kurs (Spezial B 13+14)  26871 Aschendorf  Zu den Wallwiesen 4
DESCRIPTION:18.00 Uhr – 19.30 Uhr = Thema Spezial B13 (Technische Bedingungen) \n19.45 Uhr – 21.15 Uhr = Thema Spezial B14  (Fahren mit Solokraftfahrzeugen und Zügen) \nGerne telefonisch oder per Whats App anmelden! Tel. 04961-916180
URL:https://fahrschule-schomaker.de/event/theorie-kurs-spezial-b-1314-26871-aschendorf-zu-den-wallwiesen-4/
LOCATION:Aschendorf Funke\, Zu den Wallwiesen 4\, Aschendorf\, 26871
ATTACH;FMTTYPE=image/jpeg:https://fahrschule-schomaker.de/wp-content/uploads/2026/01/Funke_ASDPXL_20251219_093308139.MP-1-scaled.jpg
END:VEVENT
END:VCALENDAR