BEGIN:VCALENDAR
VERSION:2.0
PRODID:-//Fahrschule Schomaker-Behrens - ECPv6.2.0.1//NONSGML v1.0//EN
CALSCALE:GREGORIAN
METHOD:PUBLISH
X-ORIGINAL-URL:https://fahrschule-schomaker.de
X-WR-CALDESC:Veranstaltungen für Fahrschule Schomaker-Behrens
REFRESH-INTERVAL;VALUE=DURATION:PT1H
X-Robots-Tag:noindex
X-PUBLISHED-TTL:PT1H
BEGIN:VTIMEZONE
TZID:Europe/Berlin
BEGIN:DAYLIGHT
TZOFFSETFROM:+0100
TZOFFSETTO:+0200
TZNAME:CEST
DTSTART:20260329T010000
END:DAYLIGHT
BEGIN:STANDARD
TZOFFSETFROM:+0200
TZOFFSETTO:+0100
TZNAME:CET
DTSTART:20261025T010000
END:STANDARD
END:VTIMEZONE
BEGIN:VEVENT
DTSTART;TZID=Europe/Berlin:20260817T180000
DTEND;TZID=Europe/Berlin:20260817T211500
DTSTAMP:20260420T161418
CREATED:20260129T103858Z
LAST-MODIFIED:20260129T103858Z
UID:1600-1786989600-1787001300@fahrschule-schomaker.de
SUMMARY:Theorie Kurs (Thema 1+2) 26871 Aschendorf  Zu den Wallwiesen 4
DESCRIPTION:18.00 Uhr – 19.30 Uhr = Thema 1 (Risikofaktor Mensch) \n19.45 Uhr – 21.15 Uhr = Thema 2 (Rechtliche Rahmenbedingungen) \nGerne telefonisch oder per Whats App anmelden! Tel. 04961-916180
URL:https://fahrschule-schomaker.de/event/theorie-kurs-thema-12-26871-aschendorf-zu-den-wallwiesen-4/
LOCATION:Aschendorf Funke\, Zu den Wallwiesen 4\, Aschendorf\, 26871
ATTACH;FMTTYPE=image/jpeg:https://fahrschule-schomaker.de/wp-content/uploads/2026/01/Funke_ASDPXL_20251219_093308139.MP-1-scaled.jpg
END:VEVENT
BEGIN:VEVENT
DTSTART;TZID=Europe/Berlin:20260818T180000
DTEND;TZID=Europe/Berlin:20260818T211500
DTSTAMP:20260420T161418
CREATED:20260129T104008Z
LAST-MODIFIED:20260129T104008Z
UID:1601-1787076000-1787087700@fahrschule-schomaker.de
SUMMARY:Theorie Kurs (Thema 3+4)  26871 Aschendorf  Zu den Wallwiesen 4
DESCRIPTION:18.00 Uhr – 19.30 Uhr = Thema 3 (Verkehrszeichen und Verkehrseinrichtungen) \n19.45 Uhr – 21.15 Uhr = Thema 4 (Straßenverkehrssystem und seine Nutzung) \nGerne telefonisch oder per Whats App anmelden! Tel. 04961-916180
URL:https://fahrschule-schomaker.de/event/theorie-kurs-thema-34-26871-aschendorf-zu-den-wallwiesen-4-2/
LOCATION:Aschendorf Funke\, Zu den Wallwiesen 4\, Aschendorf\, 26871
ATTACH;FMTTYPE=image/jpeg:https://fahrschule-schomaker.de/wp-content/uploads/2026/01/Funke_ASDPXL_20251219_093308139.MP-1-scaled.jpg
END:VEVENT
BEGIN:VEVENT
DTSTART;TZID=Europe/Berlin:20260819T180000
DTEND;TZID=Europe/Berlin:20260819T211500
DTSTAMP:20260420T161418
CREATED:20260129T104102Z
LAST-MODIFIED:20260129T104102Z
UID:1602-1787162400-1787174100@fahrschule-schomaker.de
SUMMARY:Theorie Kurs (Thema 5+6) 26871 Aschendorf  Zu den Wallwiesen 4
DESCRIPTION:18.00 Uhr – 19.30 Uhr = Thema 5 (Vorfahrt) \n19.45 Uhr – 21.15 Uhr = Thema 6 (Verkehrsregelung Bahnübergang) \nGerne telefonisch oder per Whats App anmelden! Tel. 04961-916180
URL:https://fahrschule-schomaker.de/event/theorie-kurs-thema-56-26871-aschendorf-zu-den-wallwiesen-4-2/
LOCATION:Aschendorf Funke\, Zu den Wallwiesen 4\, Aschendorf\, 26871
ATTACH;FMTTYPE=image/jpeg:https://fahrschule-schomaker.de/wp-content/uploads/2026/01/Funke_ASDPXL_20251219_093308139.MP-1-scaled.jpg
END:VEVENT
BEGIN:VEVENT
DTSTART;TZID=Europe/Berlin:20260820T180000
DTEND;TZID=Europe/Berlin:20260820T211500
DTSTAMP:20260420T161418
CREATED:20260129T104318Z
LAST-MODIFIED:20260129T104318Z
UID:1610-1787248800-1787260500@fahrschule-schomaker.de
SUMMARY:Theorie Kurs (Thema 7+8)  26871 Aschendorf  Zu den Wallwiesen 4
DESCRIPTION:18.00 Uhr – 19.30 Uhr = Thema 7 (Geschwindigkeit\, Abstand und umweltschonende Fahrweise) \n19.45 Uhr – 21.15 Uhr = Thema 8 (Andere Teilnehmer im Straßenverkehr) \nGerne telefonisch oder per Whats App anmelden! Tel. 04961-916180
URL:https://fahrschule-schomaker.de/event/theorie-kurs-thema-78-26871-aschendorf-zu-den-wallwiesen-4-2/
LOCATION:Aschendorf Funke\, Zu den Wallwiesen 4\, Aschendorf\, 26871
ATTACH;FMTTYPE=image/jpeg:https://fahrschule-schomaker.de/wp-content/uploads/2026/01/Funke_ASDPXL_20251219_093308139.MP-1-scaled.jpg
END:VEVENT
BEGIN:VEVENT
DTSTART;TZID=Europe/Berlin:20260824T180000
DTEND;TZID=Europe/Berlin:20260824T211500
DTSTAMP:20260420T161418
CREATED:20250911T085819Z
LAST-MODIFIED:20250911T085819Z
UID:1493-1787594400-1787606100@fahrschule-schomaker.de
SUMMARY:Theorie Kurs (Thema 1+2) 26871 Papenburg Splitting rechts 9
DESCRIPTION:18.00 Uhr – 19.30 Uhr = Thema 1 (Risikofaktor Mensch) \n19.45 Uhr – 21.15 Uhr = Thema 2 (Rechtliche Rahmenbedingungen) \nGerne telefonisch oder per Whats App anmelden!! Tel. 04961-916180
URL:https://fahrschule-schomaker.de/event/theorie-kurs-thema-12-26871-papenburg-splitting-rechts-9-2/
LOCATION:Papenburg Obenende\, Splitting rechts 9\, Papenburg\, 26871\, Deutschland
ATTACH;FMTTYPE=image/jpeg:https://fahrschule-schomaker.de/wp-content/uploads/2022/12/Fahrschulegebaeude_Obenende.jpeg
END:VEVENT
BEGIN:VEVENT
DTSTART;TZID=Europe/Berlin:20260824T180000
DTEND;TZID=Europe/Berlin:20260824T211500
DTSTAMP:20260420T161418
CREATED:20260129T104223Z
LAST-MODIFIED:20260129T104223Z
UID:1604-1787594400-1787606100@fahrschule-schomaker.de
SUMMARY:Theorie Kurs (Thema 9+10) 26871 Aschendorf  Zu den Wallwiesen 4
DESCRIPTION:18.00 Uhr – 19.30 Uhr = Thema 9 Verkehrsverhalten bei Fahrmanövern\, Verkehrsbeobachtung) \n19.45 Uhr – 21.15 Uhr = Thema 10 (Ruhender Verkehr) \nGerne telefonisch oder per Whats App anmelden! Tel. 04961-916180
URL:https://fahrschule-schomaker.de/event/theorie-kurs-thema-910-26871-aschendorf-zu-den-wallwiesen-4-2/
LOCATION:Aschendorf Funke\, Zu den Wallwiesen 4\, Aschendorf\, 26871
ATTACH;FMTTYPE=image/jpeg:https://fahrschule-schomaker.de/wp-content/uploads/2026/01/Funke_ASDPXL_20251219_093308139.MP-1-scaled.jpg
END:VEVENT
BEGIN:VEVENT
DTSTART;TZID=Europe/Berlin:20260825T180000
DTEND;TZID=Europe/Berlin:20260825T211500
DTSTAMP:20260420T161418
CREATED:20250911T085844Z
LAST-MODIFIED:20250911T085844Z
UID:1494-1787680800-1787692500@fahrschule-schomaker.de
SUMMARY:Theorie Kurs (Thema 3+4) 26871 Papenburg Splitting rechts 9
DESCRIPTION:18.00 Uhr – 19.30 Uhr = Thema 3 (Verkehrszeichen) \n19.45 Uhr – 21.15 Uhr = Thema 4 (Straßenverkehrssystem und seine Nutzung) \nGerne telefonisch oder per Whats App anmelden!! Tel. 04961-916180
URL:https://fahrschule-schomaker.de/event/theorie-kurs-thema-34-26871-papenburg-splitting-rechts-9-2/
LOCATION:Papenburg Obenende\, Splitting rechts 9\, Papenburg\, 26871\, Deutschland
ATTACH;FMTTYPE=image/jpeg:https://fahrschule-schomaker.de/wp-content/uploads/2022/12/Fahrschulegebaeude_Obenende.jpeg
END:VEVENT
BEGIN:VEVENT
DTSTART;TZID=Europe/Berlin:20260825T180000
DTEND;TZID=Europe/Berlin:20260825T211500
DTSTAMP:20260420T161418
CREATED:20260129T104359Z
LAST-MODIFIED:20260129T104359Z
UID:1605-1787680800-1787692500@fahrschule-schomaker.de
SUMMARY:Theorie Kurs (Thema 11+12)  26871 Aschendorf   Zu den Wallwiesen 4
DESCRIPTION:18.00 Uhr – 19.30 Uhr = Thema 11 (Verhalten in besonderen Situationen) \n19.45 Uhr – 21.15 Uhr = Thema 12 (Lebenslanges Lernen) \nGerne telefonisch oder per Whats App anmelden! Tel. 04961-916180
URL:https://fahrschule-schomaker.de/event/theorie-kurs-thema-1112-26871-aschendorf-zu-den-wallwiesen-4-2/
LOCATION:Aschendorf Funke\, Zu den Wallwiesen 4\, Aschendorf\, 26871
ATTACH;FMTTYPE=image/jpeg:https://fahrschule-schomaker.de/wp-content/uploads/2026/01/Funke_ASDPXL_20251219_093308139.MP-1-scaled.jpg
END:VEVENT
BEGIN:VEVENT
DTSTART;TZID=Europe/Berlin:20260826T180000
DTEND;TZID=Europe/Berlin:20260826T211500
DTSTAMP:20260420T161418
CREATED:20250911T085913Z
LAST-MODIFIED:20250911T085913Z
UID:1496-1787767200-1787778900@fahrschule-schomaker.de
SUMMARY:Theorie Kurs (Thema 5+6) 26871 Papenburg Splitting rechts 9
DESCRIPTION:18.00 Uhr – 19.30 Uhr = Thema 5 (Vorfahrt) \n19.45 Uhr – 21.15 Uhr = Thema 6 (Verkehrsregelungen/BÜ) \nGerne telefonisch oder per Whats App anmelden!! Tel. 04961-916180
URL:https://fahrschule-schomaker.de/event/theorie-kurs-thema-56-26871-papenburg-splitting-rechts-9-2/
LOCATION:Papenburg Obenende\, Splitting rechts 9\, Papenburg\, 26871\, Deutschland
ATTACH;FMTTYPE=image/jpeg:https://fahrschule-schomaker.de/wp-content/uploads/2022/12/Fahrschulegebaeude_Obenende.jpeg
END:VEVENT
BEGIN:VEVENT
DTSTART;TZID=Europe/Berlin:20260826T180000
DTEND;TZID=Europe/Berlin:20260826T211500
DTSTAMP:20260420T161418
CREATED:20260129T104444Z
LAST-MODIFIED:20260129T104444Z
UID:1606-1787767200-1787778900@fahrschule-schomaker.de
SUMMARY:Theorie Kurs (Spezial B 13+14)  26871 Aschendorf  Zu den Wallwiesen 4
DESCRIPTION:18.00 Uhr – 19.30 Uhr = Thema Spezial B13 (Technische Bedingungen) \n19.45 Uhr – 21.15 Uhr = Thema Spezial B14  (Fahren mit Solokraftfahrzeugen und Zügen) \nGerne telefonisch oder per Whats App anmelden! Tel. 04961-916180
URL:https://fahrschule-schomaker.de/event/theorie-kurs-spezial-b-1314-26871-aschendorf-zu-den-wallwiesen-4-2/
LOCATION:Aschendorf Funke\, Zu den Wallwiesen 4\, Aschendorf\, 26871
ATTACH;FMTTYPE=image/jpeg:https://fahrschule-schomaker.de/wp-content/uploads/2026/01/Funke_ASDPXL_20251219_093308139.MP-1-scaled.jpg
END:VEVENT
BEGIN:VEVENT
DTSTART;TZID=Europe/Berlin:20260827T180000
DTEND;TZID=Europe/Berlin:20260827T211500
DTSTAMP:20260420T161418
CREATED:20250911T085938Z
LAST-MODIFIED:20250911T085938Z
UID:1497-1787853600-1787865300@fahrschule-schomaker.de
SUMMARY:Theorie Kurs (Thema 7+8) 26871 Papenburg Splitting rechts 9
DESCRIPTION:18.00 Uhr – 19.30 Uhr = Thema 7 (Geschwindigkeit/Abstand) \n19.45 Uhr – 21.15 Uhr = Thema 8 (Teilnehmer am Straßenverkehr) \nGerne telefonisch oder per Whats App anmelden!! Tel. 04961-916180
URL:https://fahrschule-schomaker.de/event/theorie-kurs-thema-78-26871-papenburg-splitting-rechts-9-2/
LOCATION:Papenburg Obenende\, Splitting rechts 9\, Papenburg\, 26871\, Deutschland
ATTACH;FMTTYPE=image/jpeg:https://fahrschule-schomaker.de/wp-content/uploads/2022/12/Fahrschulegebaeude_Obenende.jpeg
END:VEVENT
BEGIN:VEVENT
DTSTART;TZID=Europe/Berlin:20260831T180000
DTEND;TZID=Europe/Berlin:20260831T211500
DTSTAMP:20260420T161418
CREATED:20250911T090013Z
LAST-MODIFIED:20250911T090013Z
UID:1498-1788199200-1788210900@fahrschule-schomaker.de
SUMMARY:Theorie Kurs (Thema 9+10) 26871 Papenburg Splitting rechts 9
DESCRIPTION:18.00 Uhr – 19.30 Uhr = Thema 9 (Überholen) \n19.45 Uhr – 21.15 Uhr = Thema 10 (Halten und Parken) \nGerne telefonisch oder per Whats App anmelden!! Tel. 04961-916180
URL:https://fahrschule-schomaker.de/event/theorie-kurs-thema-910-26871-papenburg-splitting-rechts-9-2/
LOCATION:Papenburg Obenende\, Splitting rechts 9\, Papenburg\, 26871\, Deutschland
ATTACH;FMTTYPE=image/jpeg:https://fahrschule-schomaker.de/wp-content/uploads/2022/12/Fahrschulegebaeude_Obenende.jpeg
END:VEVENT
BEGIN:VEVENT
DTSTART;TZID=Europe/Berlin:20260901T180000
DTEND;TZID=Europe/Berlin:20260901T211500
DTSTAMP:20260420T161418
CREATED:20250911T090055Z
LAST-MODIFIED:20250911T090055Z
UID:1499-1788285600-1788297300@fahrschule-schomaker.de
SUMMARY:Theorie Kurs (Thema 11+12) 26871 Papenburg Splitting rechts 9
DESCRIPTION:18.00 Uhr – 19.30 Uhr = Thema 11 (Licht) \n19.45 Uhr – 21.15 Uhr = Thema 12 (Lebenslanges Lernen) \nGerne telefonisch oder per Whats App anmelden!! Tel. 04961-916180
URL:https://fahrschule-schomaker.de/event/theorie-kurs-thema-1112-26871-papenburg-splitting-rechts-9-2/
LOCATION:Papenburg Obenende\, Splitting rechts 9\, Papenburg\, 26871\, Deutschland
ATTACH;FMTTYPE=image/jpeg:https://fahrschule-schomaker.de/wp-content/uploads/2022/12/Fahrschulegebaeude_Obenende.jpeg
END:VEVENT
BEGIN:VEVENT
DTSTART;TZID=Europe/Berlin:20260902T180000
DTEND;TZID=Europe/Berlin:20260902T211500
DTSTAMP:20260420T161418
CREATED:20250911T090142Z
LAST-MODIFIED:20250911T090142Z
UID:1500-1788372000-1788383700@fahrschule-schomaker.de
SUMMARY:Theorie Kurs (Thema 13+14) 26871 Papenburg Splitting rechts 9
DESCRIPTION:18.00 Uhr – 19.30 Uhr = Thema 13 (Technik) \n19.45 Uhr – 21.15 Uhr = Thema 14 (Anhänger) \nGerne telefonisch oder per Whats App anmelden!! Tel. 04961-916180
URL:https://fahrschule-schomaker.de/event/theorie-kurs-thema-1314-26871-papenburg-splitting-rechts-9-2/
LOCATION:Papenburg Obenende\, Splitting rechts 9\, Papenburg\, 26871\, Deutschland
ATTACH;FMTTYPE=image/jpeg:https://fahrschule-schomaker.de/wp-content/uploads/2022/12/Fahrschulegebaeude_Obenende.jpeg
END:VEVENT
BEGIN:VEVENT
DTSTART;TZID=Europe/Berlin:20261012T180000
DTEND;TZID=Europe/Berlin:20261012T211500
DTSTAMP:20260420T161418
CREATED:20250911T090346Z
LAST-MODIFIED:20250911T090346Z
UID:1515-1791828000-1791839700@fahrschule-schomaker.de
SUMMARY:Theorie Kurs (Thema 1+2) 26871 Papenburg Hauptkanal links 94
DESCRIPTION:18.00 Uhr – 19.30 Uhr = Thema 1 (Risikofaktor Mensch) \n19.45 Uhr – 21.15 Uhr = Thema 2 (Rechtliche Rahmenbedingungen) \nGerne telefonisch oder per Whats App anmelden! Tel. 04961-916180
URL:https://fahrschule-schomaker.de/event/theorie-kurs-thema-12-26871-papenburg-hauptkanal-links-94/
LOCATION:Aschendorf Funke\, Zu den Wallwiesen 4\, Aschendorf\, 26871
ATTACH;FMTTYPE=image/jpeg:https://fahrschule-schomaker.de/wp-content/uploads/2022/12/Gebaeude-Untenende.jpeg
END:VEVENT
BEGIN:VEVENT
DTSTART;TZID=Europe/Berlin:20261013T180000
DTEND;TZID=Europe/Berlin:20261013T211500
DTSTAMP:20260420T161418
CREATED:20250911T090420Z
LAST-MODIFIED:20250911T090420Z
UID:1514-1791914400-1791926100@fahrschule-schomaker.de
SUMMARY:Theorie Kurs (Thema 3+4) 26871 Papenburg Hauptkanal links 94
DESCRIPTION:18.00 Uhr – 19.30 Uhr = Thema 3 (Verkehrszeichen) \n19.45 Uhr – 21.15 Uhr = Thema 4 (Straßenverkehrssystem und seine Nutzung) \nGerne telefonisch oder per Whats App anmelden! Tel. 04961-916180 \n 
URL:https://fahrschule-schomaker.de/event/theorie-kurs-thema-34-26871-papenburg-hauptkanal-links-94-2/
LOCATION:Aschendorf Funke\, Zu den Wallwiesen 4\, Aschendorf\, 26871
ATTACH;FMTTYPE=image/jpeg:https://fahrschule-schomaker.de/wp-content/uploads/2022/12/Gebaeude-Untenende.jpeg
END:VEVENT
BEGIN:VEVENT
DTSTART;TZID=Europe/Berlin:20261014T180000
DTEND;TZID=Europe/Berlin:20261014T211500
DTSTAMP:20260420T161418
CREATED:20250911T090444Z
LAST-MODIFIED:20250911T090444Z
UID:1513-1792000800-1792012500@fahrschule-schomaker.de
SUMMARY:Theorie Kurs (Thema 5+6) 26871 Papenburg Hauptkanal links 94
DESCRIPTION:18.00 Uhr – 19.30 Uhr = Thema 5 (Vorfahrt) \n19.45 Uhr – 21.15 Uhr = Thema 6 (Verkehrsregelungen/BÜ) \nGerne telefonisch oder per Whats App anmelden! Tel. 04961-916180
URL:https://fahrschule-schomaker.de/event/theorie-kurs-thema-56-26871-papenburg-hauptkanal-links-94/
LOCATION:Aschendorf Funke\, Zu den Wallwiesen 4\, Aschendorf\, 26871
ATTACH;FMTTYPE=image/jpeg:https://fahrschule-schomaker.de/wp-content/uploads/2022/12/Gebaeude-Untenende.jpeg
END:VEVENT
BEGIN:VEVENT
DTSTART;TZID=Europe/Berlin:20261015T180000
DTEND;TZID=Europe/Berlin:20261015T211500
DTSTAMP:20260420T161418
CREATED:20250911T090516Z
LAST-MODIFIED:20250911T090516Z
UID:1512-1792087200-1792098900@fahrschule-schomaker.de
SUMMARY:Theorie Kurs (Thema 7+8) 26871 Papenburg Hauptkanal links 94
DESCRIPTION:18.00 Uhr – 19.30 Uhr = Thema 7 (Geschwindigkeit/Abstand) \n19.45 Uhr – 21.15 Uhr = Thema 8 (Teilnehmer am Straßenverkehr) \nGerne telefonisch oder per Whats App anmelden! Tel. 04961-916180
URL:https://fahrschule-schomaker.de/event/theorie-kurs-thema-78-26871-papenburg-hauptkanal-links-94/
LOCATION:Aschendorf Funke\, Zu den Wallwiesen 4\, Aschendorf\, 26871
ATTACH;FMTTYPE=image/jpeg:https://fahrschule-schomaker.de/wp-content/uploads/2022/12/Gebaeude-Untenende.jpeg
END:VEVENT
BEGIN:VEVENT
DTSTART;TZID=Europe/Berlin:20261019T180000
DTEND;TZID=Europe/Berlin:20261019T211500
DTSTAMP:20260420T161418
CREATED:20250911T090544Z
LAST-MODIFIED:20250911T090544Z
UID:1511-1792432800-1792444500@fahrschule-schomaker.de
SUMMARY:Theorie Kurs (Thema 9+10) 26871 Papenburg Hauptkanal links 94
DESCRIPTION:18.00 Uhr – 19.30 Uhr = Thema 9 (Überholen) \n19.45 Uhr – 21.15 Uhr = Thema 10 (Halten und Parken) \nGerne telefonisch oder per Whats App anmelden! Tel. 04961-916180
URL:https://fahrschule-schomaker.de/event/theorie-kurs-thema-910-26871-papenburg-hauptkanal-links-94/
LOCATION:Aschendorf Funke\, Zu den Wallwiesen 4\, Aschendorf\, 26871
ATTACH;FMTTYPE=image/jpeg:https://fahrschule-schomaker.de/wp-content/uploads/2022/12/Gebaeude-Untenende.jpeg
END:VEVENT
BEGIN:VEVENT
DTSTART;TZID=Europe/Berlin:20261020T180000
DTEND;TZID=Europe/Berlin:20261020T211500
DTSTAMP:20260420T161418
CREATED:20250911T090615Z
LAST-MODIFIED:20250911T090615Z
UID:1510-1792519200-1792530900@fahrschule-schomaker.de
SUMMARY:Theorie Kurs (Thema 11+12) 26871 Papenburg Hauptkanal links 94
DESCRIPTION:18.00 Uhr – 19.30 Uhr = Thema 11 (Licht) \n19.45 Uhr – 21.15 Uhr = Thema 12 (Lebenslanges Lernen) \nGerne telefonisch oder per Whats App anmelden! Tel. 04961-916180
URL:https://fahrschule-schomaker.de/event/theorie-kurs-thema-1112-26871-papenburg-hauptkanal-links-94/
LOCATION:Aschendorf Funke\, Zu den Wallwiesen 4\, Aschendorf\, 26871
ATTACH;FMTTYPE=image/jpeg:https://fahrschule-schomaker.de/wp-content/uploads/2022/12/Gebaeude-Untenende.jpeg
END:VEVENT
BEGIN:VEVENT
DTSTART;TZID=Europe/Berlin:20261021T180000
DTEND;TZID=Europe/Berlin:20261021T211500
DTSTAMP:20260420T161418
CREATED:20250911T091130Z
LAST-MODIFIED:20250911T091130Z
UID:1509-1792605600-1792617300@fahrschule-schomaker.de
SUMMARY:Theorie Kurs (Thema 13+14) 26871 Papenburg Hauptkanal links 94
DESCRIPTION:18.00 Uhr – 19.30 Uhr = Thema 13 (Technik) \n19.45 Uhr – 21.15 Uhr = Thema 14 (Anhänger) \nHauptkanal links 94 \nGerne telefonisch oder per Whats App anmelden! Tel. 04961-916180
URL:https://fahrschule-schomaker.de/event/theorie-kurs-thema-1314-26871-papenburg-hauptkanal-links-94/
LOCATION:Aschendorf Funke\, Zu den Wallwiesen 4\, Aschendorf\, 26871
ATTACH;FMTTYPE=image/jpeg:https://fahrschule-schomaker.de/wp-content/uploads/2022/12/Gebaeude-Untenende.jpeg
END:VEVENT
BEGIN:VEVENT
DTSTART;TZID=Europe/Berlin:20261109T180000
DTEND;TZID=Europe/Berlin:20261109T211500
DTSTAMP:20260420T161418
CREATED:20250911T091313Z
LAST-MODIFIED:20250911T091313Z
UID:1523-1794247200-1794258900@fahrschule-schomaker.de
SUMMARY:Theorie Kurs (Thema 1+2) 26871 Papenburg Splitting rechts 9
DESCRIPTION:18.00 Uhr – 19.30 Uhr = Thema 1 (Risikofaktor Mensch) \n19.45 Uhr – 21.15 Uhr = Thema 2 (Rechtliche Rahmenbedingungen) \nGerne telefonisch oder per Whats App anmelden!! Tel. 04961-916180
URL:https://fahrschule-schomaker.de/event/theorie-kurs-thema-12-26871-papenburg-splitting-rechts-9-3/
LOCATION:Papenburg Obenende\, Splitting rechts 9\, Papenburg\, 26871\, Deutschland
ATTACH;FMTTYPE=image/jpeg:https://fahrschule-schomaker.de/wp-content/uploads/2022/12/Fahrschulegebaeude_Obenende.jpeg
END:VEVENT
BEGIN:VEVENT
DTSTART;TZID=Europe/Berlin:20261109T180000
DTEND;TZID=Europe/Berlin:20261109T211500
DTSTAMP:20260420T161418
CREATED:20260129T104752Z
LAST-MODIFIED:20260129T104752Z
UID:1615-1794247200-1794258900@fahrschule-schomaker.de
SUMMARY:Theorie Kurs (Thema 1+2) 26871 Aschendorf  Zu den Wallwiesen 4
DESCRIPTION:18.00 Uhr – 19.30 Uhr = Thema 1 (Risikofaktor Mensch) \n19.45 Uhr – 21.15 Uhr = Thema 2 (Rechtliche Rahmenbedingungen) \nGerne telefonisch oder per Whats App anmelden! Tel. 04961-916180
URL:https://fahrschule-schomaker.de/event/theorie-kurs-thema-12-26871-aschendorf-zu-den-wallwiesen-4-2/
LOCATION:Aschendorf Funke\, Zu den Wallwiesen 4\, Aschendorf\, 26871
ATTACH;FMTTYPE=image/jpeg:https://fahrschule-schomaker.de/wp-content/uploads/2026/01/Funke_ASDPXL_20251219_093308139.MP-1-scaled.jpg
END:VEVENT
BEGIN:VEVENT
DTSTART;TZID=Europe/Berlin:20261110T180000
DTEND;TZID=Europe/Berlin:20261110T211500
DTSTAMP:20260420T161418
CREATED:20250911T091357Z
LAST-MODIFIED:20250911T091357Z
UID:1524-1794333600-1794345300@fahrschule-schomaker.de
SUMMARY:Theorie Kurs (Thema 3+4) 26871 Papenburg Splitting rechts 9
DESCRIPTION:18.00 Uhr – 19.30 Uhr = Thema 3 (Verkehrszeichen) \n19.45 Uhr – 21.15 Uhr = Thema 4 (Straßenverkehrssystem und seine Nutzung) \nGerne telefonisch oder per Whats App anmelden!! Tel. 04961-916180
URL:https://fahrschule-schomaker.de/event/theorie-kurs-thema-34-26871-papenburg-splitting-rechts-9-3/
LOCATION:Papenburg Obenende\, Splitting rechts 9\, Papenburg\, 26871\, Deutschland
ATTACH;FMTTYPE=image/jpeg:https://fahrschule-schomaker.de/wp-content/uploads/2022/12/Fahrschulegebaeude_Obenende.jpeg
END:VEVENT
BEGIN:VEVENT
DTSTART;TZID=Europe/Berlin:20261110T180000
DTEND;TZID=Europe/Berlin:20261110T211500
DTSTAMP:20260420T161418
CREATED:20260129T104831Z
LAST-MODIFIED:20260129T104831Z
UID:1616-1794333600-1794345300@fahrschule-schomaker.de
SUMMARY:Theorie Kurs (Thema 3+4)  26871 Aschendorf  Zu den Wallwiesen 4
DESCRIPTION:18.00 Uhr – 19.30 Uhr = Thema 3 (Verkehrszeichen und Verkehrseinrichtungen) \n19.45 Uhr – 21.15 Uhr = Thema 4 (Straßenverkehrssystem und seine Nutzung) \nGerne telefonisch oder per Whats App anmelden! Tel. 04961-916180
URL:https://fahrschule-schomaker.de/event/theorie-kurs-thema-34-26871-aschendorf-zu-den-wallwiesen-4-3/
LOCATION:Aschendorf Funke\, Zu den Wallwiesen 4\, Aschendorf\, 26871
ATTACH;FMTTYPE=image/jpeg:https://fahrschule-schomaker.de/wp-content/uploads/2026/01/Funke_ASDPXL_20251219_093308139.MP-1-scaled.jpg
END:VEVENT
BEGIN:VEVENT
DTSTART;TZID=Europe/Berlin:20261111T180000
DTEND;TZID=Europe/Berlin:20261111T211500
DTSTAMP:20260420T161418
CREATED:20250911T091427Z
LAST-MODIFIED:20250911T091427Z
UID:1525-1794420000-1794431700@fahrschule-schomaker.de
SUMMARY:Theorie Kurs (Thema 5+6) 26871 Papenburg Splitting rechts 9
DESCRIPTION:18.00 Uhr – 19.30 Uhr = Thema 5 (Vorfahrt) \n19.45 Uhr – 21.15 Uhr = Thema 6 (Verkehrsregelungen/BÜ) \nGerne telefonisch oder per Whats App anmelden!! Tel. 04961-916180
URL:https://fahrschule-schomaker.de/event/theorie-kurs-thema-56-26871-papenburg-splitting-rechts-9-3/
LOCATION:Papenburg Obenende\, Splitting rechts 9\, Papenburg\, 26871\, Deutschland
ATTACH;FMTTYPE=image/jpeg:https://fahrschule-schomaker.de/wp-content/uploads/2022/12/Fahrschulegebaeude_Obenende.jpeg
END:VEVENT
BEGIN:VEVENT
DTSTART;TZID=Europe/Berlin:20261111T180000
DTEND;TZID=Europe/Berlin:20261111T211500
DTSTAMP:20260420T161418
CREATED:20260129T104906Z
LAST-MODIFIED:20260129T104906Z
UID:1617-1794420000-1794431700@fahrschule-schomaker.de
SUMMARY:Theorie Kurs (Thema 5+6) 26871 Aschendorf  Zu den Wallwiesen 4
DESCRIPTION:18.00 Uhr – 19.30 Uhr = Thema 5 (Vorfahrt) \n19.45 Uhr – 21.15 Uhr = Thema 6 (Verkehrsregelung Bahnübergang) \nGerne telefonisch oder per Whats App anmelden! Tel. 04961-916180
URL:https://fahrschule-schomaker.de/event/theorie-kurs-thema-56-26871-aschendorf-zu-den-wallwiesen-4-3/
LOCATION:Aschendorf Funke\, Zu den Wallwiesen 4\, Aschendorf\, 26871
ATTACH;FMTTYPE=image/jpeg:https://fahrschule-schomaker.de/wp-content/uploads/2026/01/Funke_ASDPXL_20251219_093308139.MP-1-scaled.jpg
END:VEVENT
BEGIN:VEVENT
DTSTART;TZID=Europe/Berlin:20261112T180000
DTEND;TZID=Europe/Berlin:20261112T211500
DTSTAMP:20260420T161418
CREATED:20250911T091452Z
LAST-MODIFIED:20250911T091452Z
UID:1526-1794506400-1794518100@fahrschule-schomaker.de
SUMMARY:Theorie Kurs (Thema 7+8) 26871 Papenburg Splitting rechts 9
DESCRIPTION:18.00 Uhr – 19.30 Uhr = Thema 7 (Geschwindigkeit/Abstand) \n19.45 Uhr – 21.15 Uhr = Thema 8 (Teilnehmer am Straßenverkehr) \nGerne telefonisch oder per Whats App anmelden!! Tel. 04961-916180
URL:https://fahrschule-schomaker.de/event/theorie-kurs-thema-78-26871-papenburg-splitting-rechts-9-3/
LOCATION:Papenburg Obenende\, Splitting rechts 9\, Papenburg\, 26871\, Deutschland
ATTACH;FMTTYPE=image/jpeg:https://fahrschule-schomaker.de/wp-content/uploads/2022/12/Fahrschulegebaeude_Obenende.jpeg
END:VEVENT
BEGIN:VEVENT
DTSTART;TZID=Europe/Berlin:20261112T180000
DTEND;TZID=Europe/Berlin:20261112T211500
DTSTAMP:20260420T161418
CREATED:20260129T104942Z
LAST-MODIFIED:20260129T104942Z
UID:1618-1794506400-1794518100@fahrschule-schomaker.de
SUMMARY:Theorie Kurs (Thema 7+8)  26871 Aschendorf  Zu den Wallwiesen 4
DESCRIPTION:18.00 Uhr – 19.30 Uhr = Thema 7 (Geschwindigkeit\, Abstand und umweltschonende Fahrweise) \n19.45 Uhr – 21.15 Uhr = Thema 8 (Andere Teilnehmer im Straßenverkehr) \nGerne telefonisch oder per Whats App anmelden! Tel. 04961-916180
URL:https://fahrschule-schomaker.de/event/theorie-kurs-thema-78-26871-aschendorf-zu-den-wallwiesen-4-3/
LOCATION:Aschendorf Funke\, Zu den Wallwiesen 4\, Aschendorf\, 26871
ATTACH;FMTTYPE=image/jpeg:https://fahrschule-schomaker.de/wp-content/uploads/2026/01/Funke_ASDPXL_20251219_093308139.MP-1-scaled.jpg
END:VEVENT
BEGIN:VEVENT
DTSTART;TZID=Europe/Berlin:20261116T180000
DTEND;TZID=Europe/Berlin:20261116T211500
DTSTAMP:20260420T161418
CREATED:20250911T091525Z
LAST-MODIFIED:20250911T091525Z
UID:1527-1794852000-1794863700@fahrschule-schomaker.de
SUMMARY:Theorie Kurs (Thema 9+10) 26871 Papenburg Splitting rechts 9
DESCRIPTION:18.00 Uhr – 19.30 Uhr = Thema 9 (Überholen) \n19.45 Uhr – 21.15 Uhr = Thema 10 (Halten und Parken) \nGerne telefonisch oder per Whats App anmelden!! Tel. 04961-916180
URL:https://fahrschule-schomaker.de/event/theorie-kurs-thema-910-26871-papenburg-splitting-rechts-9-3/
LOCATION:Papenburg Obenende\, Splitting rechts 9\, Papenburg\, 26871\, Deutschland
ATTACH;FMTTYPE=image/jpeg:https://fahrschule-schomaker.de/wp-content/uploads/2022/12/Fahrschulegebaeude_Obenende.jpeg
END:VEVENT
END:VCALENDAR