BEGIN:VCALENDAR
VERSION:2.0
PRODID:-//Fahrschule Schomaker-Behrens - ECPv6.2.0.1//NONSGML v1.0//EN
CALSCALE:GREGORIAN
METHOD:PUBLISH
X-ORIGINAL-URL:https://fahrschule-schomaker.de
X-WR-CALDESC:Veranstaltungen für Fahrschule Schomaker-Behrens
REFRESH-INTERVAL;VALUE=DURATION:PT1H
X-Robots-Tag:noindex
X-PUBLISHED-TTL:PT1H
BEGIN:VTIMEZONE
TZID:Europe/Berlin
BEGIN:DAYLIGHT
TZOFFSETFROM:+0100
TZOFFSETTO:+0200
TZNAME:CEST
DTSTART:20250330T010000
END:DAYLIGHT
BEGIN:STANDARD
TZOFFSETFROM:+0200
TZOFFSETTO:+0100
TZNAME:CET
DTSTART:20251026T010000
END:STANDARD
END:VTIMEZONE
BEGIN:VEVENT
DTSTART;TZID=Europe/Berlin:20250505T173000
DTEND;TZID=Europe/Berlin:20250505T204500
DTSTAMP:20260421T170319
CREATED:20250425T091500Z
LAST-MODIFIED:20250425T091500Z
UID:1349-1746466200-1746477900@fahrschule-schomaker.de
SUMMARY:Theorie Motorrad Spezial (Thema 1+2)
DESCRIPTION:17:30 Uhr – 19:00 Uhr = Thema 1 (Fahrer-Beifahrer\, Fahrzeug) \n19:15 Uhr – 20:45 Uhr = Thema 2 (Fahrtechnik und Fahrphysik) \nGerne telefonisch oder per Whats App anmelden! Tel. 04961-916180
URL:https://fahrschule-schomaker.de/event/theorie-motorrad-spezial-thema-12/
LOCATION:Aschendorf Funke\, Zu den Wallwiesen 4\, Aschendorf\, 26871
ATTACH;FMTTYPE=image/jpeg:https://fahrschule-schomaker.de/wp-content/uploads/2022/12/Gebaeude-Untenende.jpeg
END:VEVENT
BEGIN:VEVENT
DTSTART;TZID=Europe/Berlin:20250506T173000
DTEND;TZID=Europe/Berlin:20250506T204500
DTSTAMP:20260421T170319
CREATED:20250425T091221Z
LAST-MODIFIED:20250425T091221Z
UID:1348-1746552600-1746564300@fahrschule-schomaker.de
SUMMARY:Theorie Motorrad Spezial (Thema 3+4)
DESCRIPTION:17.30 Uhr – 19:00 Uhr = Thema 3 (Bes. Schwierigkeiten und Gefahren) \n19:15 Uhr – 20:45 Uhr = Thema 4 (Bes. Verhalten beim Motorradfahren) \nGerne telefonisch oder per Whats App anmelden! Tel. 04961-916180 \n 
URL:https://fahrschule-schomaker.de/event/theorie-motorrad-spezial-thema-34/
LOCATION:Aschendorf Funke\, Zu den Wallwiesen 4\, Aschendorf\, 26871
ATTACH;FMTTYPE=image/jpeg:https://fahrschule-schomaker.de/wp-content/uploads/2022/12/Gebaeude-Untenende.jpeg
END:VEVENT
BEGIN:VEVENT
DTSTART;TZID=Europe/Berlin:20250512T180000
DTEND;TZID=Europe/Berlin:20250512T211500
DTSTAMP:20260421T170319
CREATED:20241228T122655Z
LAST-MODIFIED:20241228T122655Z
UID:1222-1747072800-1747084500@fahrschule-schomaker.de
SUMMARY:Theorie Kurs (Thema 1+2)
DESCRIPTION:18.00 Uhr – 19.30 Uhr = Thema 1 (Risikofaktor Mensch) \n19.45 Uhr – 21.15 Uhr = Thema 2 (Rechtliche Rahmenbedingungen) \nGerne telefonisch oder per Whats App anmelden! Tel. 04961-916180
URL:https://fahrschule-schomaker.de/event/theorie-kurs-thema-12-3/
LOCATION:Aschendorf Funke\, Zu den Wallwiesen 4\, Aschendorf\, 26871
ATTACH;FMTTYPE=image/jpeg:https://fahrschule-schomaker.de/wp-content/uploads/2022/12/Gebaeude-Untenende.jpeg
END:VEVENT
BEGIN:VEVENT
DTSTART;TZID=Europe/Berlin:20250513T180000
DTEND;TZID=Europe/Berlin:20250513T211500
DTSTAMP:20260421T170319
CREATED:20241228T115024Z
LAST-MODIFIED:20241228T122716Z
UID:1167-1747159200-1747170900@fahrschule-schomaker.de
SUMMARY:Theorie Kurs (Thema 3+4)
DESCRIPTION:18.00 Uhr – 19.30 Uhr = Thema 3 (Verkehrszeichen) \n19.45 Uhr – 21.15 Uhr = Thema 4 (Straßenverkehrssystem und seine Nutzung) \nGerne telefonisch oder per Whats App anmelden! Tel. 04961-916180 \n 
URL:https://fahrschule-schomaker.de/event/theorie-kurs-thema-34-12/
LOCATION:Aschendorf Funke\, Zu den Wallwiesen 4\, Aschendorf\, 26871
ATTACH;FMTTYPE=image/jpeg:https://fahrschule-schomaker.de/wp-content/uploads/2022/12/Gebaeude-Untenende.jpeg
END:VEVENT
BEGIN:VEVENT
DTSTART;TZID=Europe/Berlin:20250514T180000
DTEND;TZID=Europe/Berlin:20250514T211500
DTSTAMP:20260421T170319
CREATED:20241228T122933Z
LAST-MODIFIED:20241228T122933Z
UID:1224-1747245600-1747257300@fahrschule-schomaker.de
SUMMARY:Theorie Kurs (Thema 5+6)
DESCRIPTION:18.00 Uhr – 19.30 Uhr = Thema 5 (Vorfahrt) \n19.45 Uhr – 21.15 Uhr = Thema 6 (Verkehrsregelungen/BÜ) \nGerne telefonisch oder per Whats App anmelden! Tel. 04961-916180
URL:https://fahrschule-schomaker.de/event/theorie-kurs-thema-56-3/
LOCATION:Aschendorf Funke\, Zu den Wallwiesen 4\, Aschendorf\, 26871
ATTACH;FMTTYPE=image/jpeg:https://fahrschule-schomaker.de/wp-content/uploads/2022/12/Gebaeude-Untenende.jpeg
END:VEVENT
BEGIN:VEVENT
DTSTART;TZID=Europe/Berlin:20250515T180000
DTEND;TZID=Europe/Berlin:20250515T211500
DTSTAMP:20260421T170319
CREATED:20241228T123026Z
LAST-MODIFIED:20241228T123026Z
UID:1228-1747332000-1747343700@fahrschule-schomaker.de
SUMMARY:Theorie Kurs (Thema 7+8)
DESCRIPTION:18.00 Uhr – 19.30 Uhr = Thema 7 (Geschwindigkeit/Abstand) \n19.45 Uhr – 21.15 Uhr = Thema 8 (Teilnehmer am Straßenverkehr) \nGerne telefonisch oder per Whats App anmelden! Tel. 04961-916180
URL:https://fahrschule-schomaker.de/event/theorie-kurs-thema-78-3/
LOCATION:Aschendorf Funke\, Zu den Wallwiesen 4\, Aschendorf\, 26871
ATTACH;FMTTYPE=image/jpeg:https://fahrschule-schomaker.de/wp-content/uploads/2022/12/Gebaeude-Untenende.jpeg
END:VEVENT
BEGIN:VEVENT
DTSTART;TZID=Europe/Berlin:20250519T180000
DTEND;TZID=Europe/Berlin:20250519T211500
DTSTAMP:20260421T170319
CREATED:20241228T123056Z
LAST-MODIFIED:20241228T123056Z
UID:1229-1747677600-1747689300@fahrschule-schomaker.de
SUMMARY:Theorie Kurs (Thema 9+10)
DESCRIPTION:18.00 Uhr – 19.30 Uhr = Thema 9 (Überholen) \n19.45 Uhr – 21.15 Uhr = Thema 10 (Halten und Parken) \nGerne telefonisch oder per Whats App anmelden! Tel. 04961-916180
URL:https://fahrschule-schomaker.de/event/theorie-kurs-thema-910-3/
LOCATION:Aschendorf Funke\, Zu den Wallwiesen 4\, Aschendorf\, 26871
ATTACH;FMTTYPE=image/jpeg:https://fahrschule-schomaker.de/wp-content/uploads/2022/12/Gebaeude-Untenende.jpeg
END:VEVENT
BEGIN:VEVENT
DTSTART;TZID=Europe/Berlin:20250520T180000
DTEND;TZID=Europe/Berlin:20250520T211500
DTSTAMP:20260421T170319
CREATED:20241228T123123Z
LAST-MODIFIED:20241228T123123Z
UID:1230-1747764000-1747775700@fahrschule-schomaker.de
SUMMARY:Theorie Kurs (Thema 11+12)
DESCRIPTION:18.00 Uhr – 19.30 Uhr = Thema 11 (Licht) \n19.45 Uhr – 21.15 Uhr = Thema 12 (Lebenslanges Lernen) \nGerne telefonisch oder per Whats App anmelden! Tel. 04961-916180
URL:https://fahrschule-schomaker.de/event/theorie-kurs-thema-1112-3/
LOCATION:Aschendorf Funke\, Zu den Wallwiesen 4\, Aschendorf\, 26871
ATTACH;FMTTYPE=image/jpeg:https://fahrschule-schomaker.de/wp-content/uploads/2022/12/Gebaeude-Untenende.jpeg
END:VEVENT
BEGIN:VEVENT
DTSTART;TZID=Europe/Berlin:20250521T180000
DTEND;TZID=Europe/Berlin:20250521T211500
DTSTAMP:20260421T170319
CREATED:20241228T123143Z
LAST-MODIFIED:20241228T123143Z
UID:1231-1747850400-1747862100@fahrschule-schomaker.de
SUMMARY:Theorie Kurs (Thema 13+14)
DESCRIPTION:18.00 Uhr – 19.30 Uhr = Thema 13 (Technik) \n19.45 Uhr – 21.15 Uhr = Thema 14 (Anhänger) \nGerne telefonisch oder per Whats App anmelden! Tel. 04961-916180
URL:https://fahrschule-schomaker.de/event/theorie-kurs-thema-1314-3/
LOCATION:Aschendorf Funke\, Zu den Wallwiesen 4\, Aschendorf\, 26871
ATTACH;FMTTYPE=image/jpeg:https://fahrschule-schomaker.de/wp-content/uploads/2022/12/Gebaeude-Untenende.jpeg
END:VEVENT
END:VCALENDAR